BEGIN:VCALENDAR
PRODID:-//Microsoft Corporation//Outlook 12.0 MIMEDIR//EN
VERSION:2.0
BEGIN:VEVENT
DTSTART:20230222T120000
DTEND:20230222T130000
LOCATION:-
DESCRIPTION:<p>Τετάρτη 22 Φεβρουαρίου 2023: Flash Note Ετήσιων Οικονομικών Αποτελεσμάτων 2022</p>
SUMMARY;LANGUAGE=el:Flash Note Ετήσιων Οικονομικών Αποτελεσμάτων 2022
X-ALT-DESC;FMTTYPE=text/html:<html><head></head><body><p>Τετάρτη 22 Φεβρουαρίου 2023: Flash Note Ετήσιων Οικονομικών Αποτελεσμάτων 2022</p></body></html>
END:VEVENT
END:VCALENDAR
