BEGIN:VCALENDAR
PRODID:-//Microsoft Corporation//Outlook 12.0 MIMEDIR//EN
VERSION:2.0
BEGIN:VEVENT
DTSTART:20230410T120000
DTEND:20230410T130000
LOCATION:-
DESCRIPTION:<p>Δευτέρα 10 Απριλίου 2023: Δημοσίευση ετήσιας Οικονομικής Έκθεσης 2022</p>
SUMMARY;LANGUAGE=el:Ετήσια Οικονομική Έκθεση 2022
X-ALT-DESC;FMTTYPE=text/html:<html><head></head><body><p>Δευτέρα 10 Απριλίου 2023: Δημοσίευση ετήσιας Οικονομικής Έκθεσης 2022</p></body></html>
END:VEVENT
END:VCALENDAR
