BEGIN:VCALENDAR
PRODID:-//Microsoft Corporation//Outlook 12.0 MIMEDIR//EN
VERSION:2.0
BEGIN:VEVENT
DTSTART:20230515T120000
DTEND:20230515T130000
LOCATION:-
DESCRIPTION:<p>Δευτέρα 15 Μαΐου 2023: Ανακοίνωση Βασικών Οικονομικών Μεγεθών 1ου Τριμήνου 2023</p>
SUMMARY;LANGUAGE=el:Ανακοίνωση Βασικών Οικονομικών Μεγεθών 1ου Τριμήνου 2023
X-ALT-DESC;FMTTYPE=text/html:<html><head></head><body><p>Δευτέρα 15 Μαΐου 2023: Ανακοίνωση Βασικών Οικονομικών Μεγεθών 1ου Τριμήνου 2023</p></body></html>
END:VEVENT
END:VCALENDAR
