BEGIN:VCALENDAR
PRODID:-//Microsoft Corporation//Outlook 12.0 MIMEDIR//EN
VERSION:2.0
BEGIN:VEVENT
DTSTART:20230530T120000
DTEND:20230530T130000
LOCATION:-
DESCRIPTION:<p>Τρίτη 30 Μαΐου 2023: Ετήσια Τακτική Γενική Συνέλευση των Μετόχων</p>
SUMMARY;LANGUAGE=el:Ετήσια Τακτική Γενική Συνέλευση των Μετόχων 2023
X-ALT-DESC;FMTTYPE=text/html:<html><head></head><body><p>Τρίτη 30 Μαΐου 2023: Ετήσια Τακτική Γενική Συνέλευση των Μετόχων</p></body></html>
END:VEVENT
END:VCALENDAR
