BEGIN:VCALENDAR
PRODID:-//Microsoft Corporation//Outlook 12.0 MIMEDIR//EN
VERSION:2.0
BEGIN:VEVENT
DTSTART:20230626T120000
DTEND:20230626T130000
LOCATION:-
DESCRIPTION:<p>Δευτέρα 26 Ιουνίου 2023: Ημερομηνία έναρξης διαπραγμάτευσης μετοχών με νέα ονομαστική αξία</p>
SUMMARY;LANGUAGE=el:Ημερομηνία έναρξης διαπραγμάτευσης μετοχών με νέα ονομαστική αξία
X-ALT-DESC;FMTTYPE=text/html:<html><head></head><body><p>Δευτέρα 26 Ιουνίου 2023: Ημερομηνία έναρξης διαπραγμάτευσης μετοχών με νέα ονομαστική αξία</p></body></html>
END:VEVENT
END:VCALENDAR
