BEGIN:VCALENDAR
PRODID:-//Microsoft Corporation//Outlook 12.0 MIMEDIR//EN
VERSION:2.0
BEGIN:VEVENT
DTSTART:20230627T120000
DTEND:20230627T130000
LOCATION:-
DESCRIPTION:<p>Τρίτη 27 Ιουνίου 2023: Ημερομηνία προσδιορισμού δικαιούχων της επιστροφής κεφαλαίου</p>
SUMMARY;LANGUAGE=el:Ημερομηνία προσδιορισμού δικαιούχων της επιστροφής κεφαλαίου
X-ALT-DESC;FMTTYPE=text/html:<html><head></head><body><p>Τρίτη 27 Ιουνίου 2023: Ημερομηνία προσδιορισμού δικαιούχων της επιστροφής κεφαλαίου</p></body></html>
END:VEVENT
END:VCALENDAR
