BEGIN:VCALENDAR
PRODID:-//Microsoft Corporation//Outlook 12.0 MIMEDIR//EN
VERSION:2.0
BEGIN:VEVENT
DTSTART:20230921T120000
DTEND:20230921T130000
LOCATION:-
DESCRIPTION:<p>Πέμπτη 21 Σεπτεμβρίου 2023: Δημοσίευση εξαμηνιαίας Οικονομικής Έκθεσης 2023</p>
SUMMARY;LANGUAGE=el:Εξαμηνιαία Οικονομική Έκθεση 2023
X-ALT-DESC;FMTTYPE=text/html:<html><head></head><body><p>Πέμπτη 21 Σεπτεμβρίου 2023: Δημοσίευση εξαμηνιαίας Οικονομικής Έκθεσης 2023</p></body></html>
END:VEVENT
END:VCALENDAR
