BEGIN:VCALENDAR
PRODID:-//Microsoft Corporation//Outlook 12.0 MIMEDIR//EN
VERSION:2.0
BEGIN:VEVENT
DTSTART:20230810T120000
DTEND:20230810T130000
LOCATION:-
DESCRIPTION:<p>Πέμπτη 10 Αυγούστου 2023 : Flash Note Οικονομικών Αποτελεσμάτων 1ου Εξαμήνου 2023</p>
SUMMARY;LANGUAGE=el:Flash Note Οικονομικών Αποτελεσμάτων 1ου Εξαμήνου 2023
X-ALT-DESC;FMTTYPE=text/html:<html><head></head><body><p>Πέμπτη 10 Αυγούστου 2023 : Flash Note Οικονομικών Αποτελεσμάτων 1ου Εξαμήνου 2023</p></body></html>
END:VEVENT
END:VCALENDAR
