BEGIN:VCALENDAR
PRODID:-//Microsoft Corporation//Outlook 12.0 MIMEDIR//EN
VERSION:2.0
BEGIN:VEVENT
DTSTART:20231109T120000
DTEND:20231109T130000
LOCATION:-
DESCRIPTION:<p>Πέμπτη 9 Νοεμβρίου 2023: Ανακοίνωση Βασικών Οικονομικών Μεγεθών Εννεαμήνου 2023</p>
SUMMARY;LANGUAGE=el:Ανακοίνωση Βασικών Οικονομικών Μεγεθών Εννεαμήνου 2023
X-ALT-DESC;FMTTYPE=text/html:<html><head></head><body><p>Πέμπτη 9 Νοεμβρίου 2023: Ανακοίνωση Βασικών Οικονομικών Μεγεθών Εννεαμήνου 2023</p></body></html>
END:VEVENT
END:VCALENDAR
