BEGIN:VCALENDAR
PRODID:-//Microsoft Corporation//Outlook 12.0 MIMEDIR//EN
VERSION:2.0
BEGIN:VEVENT
DTSTART:20240228T093000
DTEND:20240228T103000
LOCATION:-
DESCRIPTION:<p>Τετάρτη 28 Φεβρουαρίου 2024: Flash Note Ετήσιων Οικονομικών Αποτελεσμάτων 2023</p>
SUMMARY;LANGUAGE=el:Flash Note Ετήσιων Οικονομικών Αποτελεσμάτων 2023
X-ALT-DESC;FMTTYPE=text/html:<html><head></head><body><p>Τετάρτη 28 Φεβρουαρίου 2024: Flash Note Ετήσιων Οικονομικών Αποτελεσμάτων 2023</p></body></html>
END:VEVENT
END:VCALENDAR
