BEGIN:VCALENDAR
PRODID:-//Microsoft Corporation//Outlook 12.0 MIMEDIR//EN
VERSION:2.0
BEGIN:VEVENT
DTSTART:20240418T093000
DTEND:20240418T103000
LOCATION:-
DESCRIPTION:<p>Πέμπτη 18 Απριλίου 2024: Δημοσίευση ετήσιας Οικονομικής Έκθεσης 2023</p>
SUMMARY;LANGUAGE=el:Ετήσια Οικονομική Έκθεση 2023
X-ALT-DESC;FMTTYPE=text/html:<html><head></head><body><p>Πέμπτη 18 Απριλίου 2024: Δημοσίευση ετήσιας Οικονομικής Έκθεσης 2023</p></body></html>
END:VEVENT
END:VCALENDAR
