BEGIN:VCALENDAR
PRODID:-//Microsoft Corporation//Outlook 12.0 MIMEDIR//EN
VERSION:2.0
BEGIN:VEVENT
DTSTART:20260112T100000
DTEND:20260112T110000
LOCATION:-
DESCRIPTION:<p>Δευτέρα, 12 Ιανουαρίου 2026: Έκτακτη Γενική Συνέλευση των Μετόχων</p>
SUMMARY;LANGUAGE=el:Έκτακτη Γενική Συνέλευση των Μετόχων 
X-ALT-DESC;FMTTYPE=text/html:<html><head></head><body><p>Δευτέρα, 12 Ιανουαρίου 2026: Έκτακτη Γενική Συνέλευση των Μετόχων</p></body></html>
END:VEVENT
END:VCALENDAR
