BEGIN:VCALENDAR
PRODID:-//Microsoft Corporation//Outlook 12.0 MIMEDIR//EN
VERSION:2.0
BEGIN:VEVENT
DTSTART:20260129T100000
DTEND:20260129T110000
LOCATION:-
DESCRIPTION:<p>Πέμπτη 29 Ιανουαρίου 2026: Ημερομηνία έναρξης διαπραγμάτευσης μετοχών με νέα ονομαστική αξία</p>
SUMMARY;LANGUAGE=el:Ημερομηνία έναρξης διαπραγμάτευσης μετοχών με νέα ονομαστική αξία
X-ALT-DESC;FMTTYPE=text/html:<html><head></head><body><p>Πέμπτη 29 Ιανουαρίου 2026: Ημερομηνία έναρξης διαπραγμάτευσης μετοχών με νέα ονομαστική αξία</p></body></html>
END:VEVENT
END:VCALENDAR
