BEGIN:VCALENDAR
PRODID:-//Microsoft Corporation//Outlook 12.0 MIMEDIR//EN
VERSION:2.0
BEGIN:VEVENT
DTSTART:20260130T090000
DTEND:20260130T100000
LOCATION:-
DESCRIPTION:<p>Παρασκευή 30 Ιανουαρίου 2026: Ημερομηνία προσδιορισμού δικαιούχων της επιστροφής κεφαλαίου</p>
SUMMARY;LANGUAGE=el:Ημερομηνία προσδιορισμού δικαιούχων της επιστροφής κεφαλαίου
X-ALT-DESC;FMTTYPE=text/html:<html><head></head><body><p>Παρασκευή 30 Ιανουαρίου 2026: Ημερομηνία προσδιορισμού δικαιούχων της επιστροφής κεφαλαίου</p></body></html>
END:VEVENT
END:VCALENDAR
