BEGIN:VCALENDAR
PRODID:-//Microsoft Corporation//Outlook 12.0 MIMEDIR//EN
VERSION:2.0
BEGIN:VEVENT
DTSTART:20260204T090000
DTEND:20260204T100000
LOCATION:-
DESCRIPTION:<p>Τετάρτη 4 Φεβρουαρίου 2026: Ημερομηνία έναρξης καταβολής της μείωσης του κεφαλαίου στους δικαιούχους</p>
SUMMARY;LANGUAGE=el:Ημερομηνία έναρξης καταβολής της μείωσης του κεφαλαίου στους δικαιούχους 04-02-2026
X-ALT-DESC;FMTTYPE=text/html:<html><head></head><body><p>Τετάρτη 4 Φεβρουαρίου 2026: Ημερομηνία έναρξης καταβολής της μείωσης του κεφαλαίου στους δικαιούχους</p></body></html>
END:VEVENT
END:VCALENDAR
