BEGIN:VCALENDAR
PRODID:-//Microsoft Corporation//Outlook 12.0 MIMEDIR//EN
VERSION:2.0
BEGIN:VEVENT
DTSTART:20260226T093000
DTEND:20260226T103000
LOCATION:-
DESCRIPTION:<p>Πέμπτη 26 Φεβρουαρίου 2026: Ανακοίνωση Βασικών Οικονομικών Μεγεθών Έτους 2025</p>
SUMMARY;LANGUAGE=el:Ανακοίνωση Βασικών Οικονομικών Μεγεθών Έτους 2025
X-ALT-DESC;FMTTYPE=text/html:<html><head></head><body><p>Πέμπτη 26 Φεβρουαρίου 2026: Ανακοίνωση Βασικών Οικονομικών Μεγεθών Έτους 2025</p></body></html>
END:VEVENT
END:VCALENDAR
