BEGIN:VCALENDAR
PRODID:-//Microsoft Corporation//Outlook 12.0 MIMEDIR//EN
VERSION:2.0
BEGIN:VEVENT
DTSTART:20260226T170000
DTEND:20260226T180000
LOCATION:-
DESCRIPTION:<p>Πέμπτη 26 Φεβρουαρίου 2026: Ενημέρωση Αναλυτών και ώρα 17:00</p>
SUMMARY;LANGUAGE=el:Ενημέρωση Αναλυτών 
X-ALT-DESC;FMTTYPE=text/html:<html><head></head><body><p>Πέμπτη 26 Φεβρουαρίου 2026: Ενημέρωση Αναλυτών και ώρα 17:00</p></body></html>
END:VEVENT
END:VCALENDAR
