BEGIN:VCALENDAR
PRODID:-//Microsoft Corporation//Outlook 12.0 MIMEDIR//EN
VERSION:2.0
BEGIN:VEVENT
DTSTART:20260428T120000
DTEND:20260428T130000
LOCATION:-
DESCRIPTION:<p>Τρίτη 28 Απριλίου 2026: Ετήσια Οικονομική Έκθεση 2025</p>
SUMMARY;LANGUAGE=el:Ετήσια Οικονομική Έκθεση 2025
X-ALT-DESC;FMTTYPE=text/html:<html><head></head><body><p>Τρίτη 28 Απριλίου 2026: Ετήσια Οικονομική Έκθεση 2025</p></body></html>
END:VEVENT
END:VCALENDAR
