BEGIN:VCALENDAR
PRODID:-//Microsoft Corporation//Outlook 12.0 MIMEDIR//EN
VERSION:2.0
BEGIN:VEVENT
DTSTART:20260604T100000
DTEND:20260604T110000
LOCATION:-
DESCRIPTION:<p>Πέμπτη 4 Ιουνίου 2026: Ετήσια Τακτική Γενική Συνέλευση των Μετόχων</p>
SUMMARY;LANGUAGE=el:Ετήσια Τακτική Γενική Συνέλευση των Μετόχων 2026
X-ALT-DESC;FMTTYPE=text/html:<html><head></head><body><p>Πέμπτη 4 Ιουνίου 2026: Ετήσια Τακτική Γενική Συνέλευση των Μετόχων</p></body></html>
END:VEVENT
END:VCALENDAR
